BEGIN:VCALENDAR
PRODID:-//github.com/ical-org/ical.net//NONSGML ical.net 4.0//EN
VERSION:2.0
BEGIN:VEVENT
DTEND:20260519T114500
DTSTAMP:20260425T135613Z
DTSTART:20260519T110000
LOCATION:OAKVILLE - St Cuthbert's Anglican Church\, 1541 Oakhill Drive Oak
 ville\, Ontario L6J 1Y6
SEQUENCE:0
SUMMARY:Introduction to Music with Emma
UID:9368289
END:VEVENT
BEGIN:VEVENT
DTEND:20260526T114500
DTSTAMP:20260425T135613Z
DTSTART:20260526T110000
LOCATION:OAKVILLE - St Cuthbert's Anglican Church\, 1541 Oakhill Drive Oak
 ville\, Ontario L6J 1Y6
SEQUENCE:0
SUMMARY:Introduction to Music with Emma
UID:9368290
END:VEVENT
BEGIN:VEVENT
DTEND:20260602T114500
DTSTAMP:20260425T135613Z
DTSTART:20260602T110000
LOCATION:OAKVILLE - St Cuthbert's Anglican Church\, 1541 Oakhill Drive Oak
 ville\, Ontario L6J 1Y6
SEQUENCE:0
SUMMARY:Introduction to Music with Emma
UID:9368291
END:VEVENT
BEGIN:VEVENT
DTEND:20260609T114500
DTSTAMP:20260425T135613Z
DTSTART:20260609T110000
LOCATION:OAKVILLE - St Cuthbert's Anglican Church\, 1541 Oakhill Drive Oak
 ville\, Ontario L6J 1Y6
SEQUENCE:0
SUMMARY:Introduction to Music with Emma
UID:9368292
END:VEVENT
BEGIN:VTIMEZONE
TZID:US/Eastern
X-LIC-LOCATION:US/Eastern
END:VTIMEZONE
END:VCALENDAR
